BEGIN:VCALENDAR
VERSION:2.0
PRODID:-//Capital Gymnastics - ECPv6.14.2//NONSGML v1.0//EN
CALSCALE:GREGORIAN
METHOD:PUBLISH
X-ORIGINAL-URL:https://capgym.com
X-WR-CALDESC:Events for Capital Gymnastics
REFRESH-INTERVAL;VALUE=DURATION:PT1H
X-Robots-Tag:noindex
X-PUBLISHED-TTL:PT1H
BEGIN:VTIMEZONE
TZID:UTC
BEGIN:STANDARD
TZOFFSETFROM:+0000
TZOFFSETTO:+0000
TZNAME:UTC
DTSTART:20260101T000000
END:STANDARD
END:VTIMEZONE
BEGIN:VEVENT
DTSTART;TZID=UTC:20260424T100000
DTEND;TZID=UTC:20260424T113000
DTSTAMP:20260422T053425
CREATED:20260312T223112Z
LAST-MODIFIED:20260312T223113Z
UID:10001392-1777024800-1777030200@capgym.com
SUMMARY:Gym Fun Fridays | April 24th | 10:00-11:30am | $10
DESCRIPTION:Gym Fun Friday is the ultimate way to kick off the weekend! 🎉 \nJoin us for high-energy obstacle courses\, exciting games\, open gym time\, and skill-building challenges designed to keep kids moving\, laughing\, and building confidence. From trampolines to bars\, beam\, and floor — the entire gym becomes a playground of structured fun led by our amazing coaches. \nPerfect for burning energy\, making friends\, and starting the weekend with a win. Spots fill quickly — don’t miss the fun!
URL:https://capgym.com/event/gym-fun-fridays-april-24th-1000-1130am-10/
LOCATION:Pflugerville\, 419 Kingston Lacy Blvd\, Pflugerville\, TX\, 78660\, United States
CATEGORIES:Camp
ORGANIZER;CN="Pflugerville":MAILTO:info@capgympfl.com
END:VEVENT
BEGIN:VEVENT
DTSTART;TZID=UTC:20260424T100000
DTEND;TZID=UTC:20260424T113000
DTSTAMP:20260422T053425
CREATED:20260320T003042Z
LAST-MODIFIED:20260320T003042Z
UID:10001433-1777024800-1777030200@capgym.com
SUMMARY:Gym Fun Friday |Ages 0-6 | April 24th | $10
DESCRIPTION:🎉 Gym Fun Friday (GFF)End the week with flips\, fun\, and friends! Gym Fun Friday is an exciting open-style event where kids can enjoy supervised play\, obstacle courses\, trampoline time\, and games throughout the gym. \nPerfect for ages 0-5\, this weekly event is designed to let kids burn energy\, build skills\, and have a blast in a safe\, structured environment. \n🕒 Fridays | 10:00am – 11:30am📍 Members & non-members welcome🎯 No commitment—drop in and join the fun!
URL:https://capgym.com/event/gym-fun-friday-ages-0-6-april-24th-10/
LOCATION:Round Rock\, 4600 Campus Village Drive\, Round Rock\, TX\, 78665\, United States
CATEGORIES:Camp
ORGANIZER;CN="Round Rock":MAILTO:info@capgymrnd.com
END:VEVENT
BEGIN:VEVENT
DTSTART;TZID=UTC:20260424T103000
DTEND;TZID=UTC:20260424T120000
DTSTAMP:20260422T053425
CREATED:20260301T043129Z
LAST-MODIFIED:20260301T043129Z
UID:10001350-1777026600-1777032000@capgym.com
SUMMARY:Gym Fun Fridays | Open Gym | Ages 1-5 |April 24\, 2026 | 10:30am -12:00pm | $10
DESCRIPTION:This hands-on open gym\, invites toddlers to move\, explore\, jump\, and play—right alongside you. Free play with your kiddos and make new friends! 
URL:https://capgym.com/event/gym-fun-fridays-open-gym-ages-1-5-april-24-2026-1030am-1200pm-10/
LOCATION:Cedar Park\, 504 Denali Pass\, Cedar Park\, TX\, 78613\, United States
CATEGORIES:Open Gym
ORGANIZER;CN="Cedar Park":MAILTO:info@capgymcpk.com
END:VEVENT
BEGIN:VEVENT
DTSTART;TZID=UTC:20260424T183000
DTEND;TZID=UTC:20260424T213000
DTSTAMP:20260422T053425
CREATED:20260312T213119Z
LAST-MODIFIED:20260312T213120Z
UID:10001387-1777055400-1777066200@capgym.com
SUMMARY:📺🎶⭐ Saved by the KNO |April 24th | 6:30-9:30 | $40 (sibling $35)
DESCRIPTION:Saved by the Kids – 90’s Throwback Kids Night Out \nStep back in time for a totally rad 90’s throwback Kids Night Out! Our Saved by the Kids party will bring all the bright colors\, fun music\, and high-energy vibes of the 90’s to the gym. \nKids will jump into gymnastics obstacle courses\, open gym time\, team challenges\, and retro-inspired games while jamming to fun throwback music. We’ll also have a dance party\, competitions\, and plenty of chances to flip\, race\, and play with friends throughout the night. \nIt’s the perfect mix of movement\, music\, and nonstop fun\, giving kids an exciting night at the gym while parents enjoy a well-deserved evening out. \n📅 April 24th⏰ 6:30 – 9:30 PM💲 $40 per student | $35 for siblings👧 Ages 4 & up \nBreak out the bright colors and get ready for a totally awesome night! 🎉
URL:https://capgym.com/event/%f0%9f%93%ba%f0%9f%8e%b6%e2%ad%90-saved-by-the-kno-april-24th-630-930-40-sibling-35/
LOCATION:Pflugerville\, 419 Kingston Lacy Blvd\, Pflugerville\, TX\, 78660\, United States
CATEGORIES:Kids Night Out
ORGANIZER;CN="Pflugerville":MAILTO:info@capgympfl.com
END:VEVENT
BEGIN:VEVENT
DTSTART;TZID=UTC:20260424T183000
DTEND;TZID=UTC:20260424T213000
DTSTAMP:20260422T053425
CREATED:20260317T173123Z
LAST-MODIFIED:20260317T173123Z
UID:10001425-1777055400-1777066200@capgym.com
SUMMARY:Kids Night Out | Ages 4-13 | April 24\, 2026 | 6:30-9:30 pm
DESCRIPTION:Take the night off while we keep your kids entertained with nonstop fun! At Kids’ Night Out\, we’ll have open play\, games\, gymnastics\, crafts\, and a pizza dinner! Each Kids’ Night Out has an exciting theme\, keeping the kids engaged while you enjoy a night out. \n 
URL:https://capgym.com/event/kids-night-out-ages-4-13-april-24-2026-630-930-pm/
LOCATION:Cedar Park\, 504 Denali Pass\, Cedar Park\, TX\, 78613\, United States
CATEGORIES:Kids Night Out
ORGANIZER;CN="Cedar Park":MAILTO:info@capgymcpk.com
END:VEVENT
BEGIN:VEVENT
DTSTART;TZID=UTC:20260424T183000
DTEND;TZID=UTC:20260424T213000
DTSTAMP:20260422T053425
CREATED:20260401T183045Z
LAST-MODIFIED:20260401T183046Z
UID:10001518-1777055400-1777066200@capgym.com
SUMMARY:Kids Night Out | Ages 4+ | April 24th | Island Adventure Night | $40 ($35 sibling)
DESCRIPTION:🎡 Spring Carnival Night – Kid’s Night Out! 🎉Step right up for an unforgettable night of fun at Capital Gymnastics Round Rock! Our Spring Carnival Kid’s Night Out is packed with exciting games\, activities\, and treats—perfect for kids and a well-deserved night off for parents! \n📅 Date: Friday\, April 10th⏰ Time: 6:30 PM – 9:30 PM \n✨ What’s Included:🎯 Carnival Games – Test your skills and win fun prizes!🍕 Pizza & Snacks – Enjoy dinner with friends🎨 Crafts & Prizes – Get creative and take home something special🎬 Movie & More – Wind down with a fun movie and extra activities \nThis high-energy event is perfect for kids who love to play\, create\, and socialize in a safe\, structured environment led by our amazing coaches. \n💲 Pricing:$40 per child$35 sibling discount \n🎟️ Spots are limited! Sign up today to secure your place under the big top!
URL:https://capgym.com/event/kids-night-out-ages-4-april-24th-island-adventure-night-40-35-sibling/
LOCATION:Round Rock\, 4600 Campus Village Drive\, Round Rock\, TX\, 78665\, United States
CATEGORIES:Kids Night Out
ORGANIZER;CN="Round Rock":MAILTO:info@capgymrnd.com
END:VEVENT
END:VCALENDAR