BEGIN:VCALENDAR
VERSION:2.0
PRODID:-//Capital Gymnastics - ECPv6.14.2//NONSGML v1.0//EN
CALSCALE:GREGORIAN
METHOD:PUBLISH
X-ORIGINAL-URL:https://capgym.com
X-WR-CALDESC:Events for Capital Gymnastics
REFRESH-INTERVAL;VALUE=DURATION:PT1H
X-Robots-Tag:noindex
X-PUBLISHED-TTL:PT1H
BEGIN:VTIMEZONE
TZID:UTC
BEGIN:STANDARD
TZOFFSETFROM:+0000
TZOFFSETTO:+0000
TZNAME:UTC
DTSTART:20260101T000000
END:STANDARD
END:VTIMEZONE
BEGIN:VEVENT
DTSTART;TZID=UTC:20260616T090000
DTEND;TZID=UTC:20260619T120000
DTSTAMP:20260422T122207
CREATED:20251203T203209Z
LAST-MODIFIED:20260105T180610Z
UID:10000339-1781600400-1781870400@capgym.com
SUMMARY:Summer Camp | HALF DAY | Ages 4+ |WK4 June 15 - 19 |🏕️ Camping & Survival Skills Week
DESCRIPTION:🏕️ WEEK 4 — Camping & Survival Skills\n9:00 AM – 3:00 PM • $315/week • $70/dayAges 4–13 \nAdventure week! Kids learn outdoor readiness and teamwork through challenge-style activities — all indoors where it’s cool and safe. \n🔦 What Kids Do\n\n\nTent building + knot tying \n\n\nCompass navigation \n\n\nFirst-aid relay challenges \n\n\nNature crafts & “rescue missions” \n\n\nObstacle courses inspired by survival skills \n\n\n🎉 Why Kids Love It\n\n\nFeels like real adventure \n\n\nTeam missions & challenges \n\n\nHands-on skill-learning \n\n\n📋 What to Bring\nSnack\, lunch\, refillable water bottle\, athletic clothes.
URL:https://capgym.com/event/summer-camp-half-day-ages-4-wk4-june-15-19-%f0%9f%8f%95%ef%b8%8f-camping-survival-skills-week/
LOCATION:Round Rock\, 4600 Campus Village Drive\, Round Rock\, TX\, 78665\, United States
CATEGORIES:Camp
ORGANIZER;CN="Round Rock":MAILTO:info@capgymrnd.com
END:VEVENT
BEGIN:VEVENT
DTSTART;TZID=UTC:20260616T090000
DTEND;TZID=UTC:20260619T120000
DTSTAMP:20260422T122207
CREATED:20251203T203421Z
LAST-MODIFIED:20260105T180704Z
UID:10000408-1781600400-1781870400@capgym.com
SUMMARY:Mardi Gras Madness | Summer Camp 2026 Week 3 | Ages 4-13 | Mon-Fri\, June 15th-19th | Half Day - 9am-12pm | $270
DESCRIPTION:School’s out and camp is in! Learn gymnastics skills\, play exciting games\, and make new friends at our Camps. Campers will participate in structured rotations\, as well as open gym\, crafts\, and group activities with our skilled staff. No experience is required to join the fun. \n \nGymnastics Summer Camp (Half Day)  \nAddress:  504 Denali Pass\, Cedar Park\, TX  78613 \nGymnastics – Half Day – $270 for a full week (Monday-Friday) \nLearn basic to advanced skills and progressions for the sport of artistic gymnastics.  Students will learn cartwheels\, handstands\, and key skills across all four olympic apparatuses. \n*No experience necessary*! All skill levels\, beginner through advanced welcome. There will be time for open gym\, games\, and other athletic activities! \nCamp Details \n\nCamp is Non-Refundable\nBring a healthy snack from home\nCampers will be separated into groups based on age and ability\nGymnastics campers should wear a leotard or tight-fitting shirt that covers their belly\, and shorts or leggings \nMust bring water bottle\nMust pre-register & pre-pay
URL:https://capgym.com/event/mardi-gras-madness-summer-camp-2026-week-3-ages-4-13-mon-fri-june-15th-19th-half-day-9am-12pm-270/
LOCATION:Cedar Park\, 504 Denali Pass\, Cedar Park\, TX\, 78613\, United States
CATEGORIES:Camp
ORGANIZER;CN="Cedar Park":MAILTO:info@capgymcpk.com
END:VEVENT
BEGIN:VEVENT
DTSTART;TZID=UTC:20260616T090000
DTEND;TZID=UTC:20260619T120000
DTSTAMP:20260422T122207
CREATED:20251203T203452Z
LAST-MODIFIED:20260105T180731Z
UID:10000441-1781600400-1781870400@capgym.com
SUMMARY:Magic & Mystery Summer Camp | Week 4 | June 15-June 19| Half Day (9-12)
DESCRIPTION:School’s out and camp is in! Learn gymnastics and ninja skills\, play exciting games\, and make new friends at our Camps. Campers will participate in structured rotations\, as well as open gym\, crafts\, and group activities with our skilled staff. No experience is required to join the fun.
URL:https://capgym.com/event/magic-mystery-summer-camp-week-4-june-15-june-19-half-day-9-12/
LOCATION:Pflugerville\, 419 Kingston Lacy Blvd\, Pflugerville\, TX\, 78660\, United States
CATEGORIES:Camp
ORGANIZER;CN="Pflugerville":MAILTO:info@capgympfl.com
END:VEVENT
BEGIN:VEVENT
DTSTART;TZID=UTC:20260616T090000
DTEND;TZID=UTC:20260619T150000
DTSTAMP:20260422T122207
CREATED:20251203T203222Z
LAST-MODIFIED:20260105T180626Z
UID:10000355-1781600400-1781881200@capgym.com
SUMMARY:Summer Camp | FULL DAY | Ages 4+ |WK4 June 15 - 19 |🏕️ Camping & Survival Skills Week
DESCRIPTION:🏕️ WEEK 4 — Camping & Survival Skills\n9:00 AM – 3:00 PM • $315/week • $70/dayAges 4–13 \nAdventure week! Kids learn outdoor readiness and teamwork through challenge-style activities — all indoors where it’s cool and safe. \n🔦 What Kids Do\n\n\nTent building + knot tying \n\n\nCompass navigation \n\n\nFirst-aid relay challenges \n\n\nNature crafts & “rescue missions” \n\n\nObstacle courses inspired by survival skills \n\n\n🎉 Why Kids Love It\n\n\nFeels like real adventure \n\n\nTeam missions & challenges \n\n\nHands-on skill-learning \n\n\n📋 What to Bring\nSnack\, lunch\, refillable water bottle\, athletic clothes.
URL:https://capgym.com/event/summer-camp-full-day-ages-4-wk4-june-15-19-%f0%9f%8f%95%ef%b8%8f-camping-survival-skills-week/
LOCATION:Round Rock\, 4600 Campus Village Drive\, Round Rock\, TX\, 78665\, United States
CATEGORIES:Camp
ORGANIZER;CN="Round Rock":MAILTO:info@capgymrnd.com
END:VEVENT
BEGIN:VEVENT
DTSTART;TZID=UTC:20260616T090000
DTEND;TZID=UTC:20260619T150000
DTSTAMP:20260422T122207
CREATED:20251203T203247Z
LAST-MODIFIED:20260105T180639Z
UID:10000373-1781600400-1781881200@capgym.com
SUMMARY:Mardi Gras Madness | Summer Camp 2026 Week 3 | Ages 4-13 | Mon-Fri\, June 15th-19th | Full Day - 9am-3pm | $345
DESCRIPTION:School’s out and camp is in! Learn gymnastics skills\, play exciting games\, and make new friends at our Camps. Campers will participate in structured rotations\, as well as open gym\, crafts\, and group activities with our skilled staff. No experience is required to join the fun. \n \nGymnastics Summer Camp (Full Day)  \nAddress:  504 Denali Pass\, Cedar Park\, TX  78613 \nGymnastics – Full Day – $345 for a full week (Monday-Friday) \nLearn basic to advanced skills and progressions for the sport of artistic gymnastics.  Students will learn cartwheels\, handstands\, and key skills across all four olympic apparatuses. \n*No experience necessary*! All skill levels\, beginner through advanced welcome. There will be time for open gym\, games\, and other athletic activities! \nCamp Details \n\nCamp is Non-Refundable\nBring a healthy snack from home\nBring a lunch from home\nCampers will be separated into groups based on age and ability\nGymnastics campers should wear a leotard or tight fitting shirt that covers their belly\, and shorts or leggings\nMust bring water bottle\nMust pre-register & pre-pay
URL:https://capgym.com/event/mardi-gras-madness-summer-camp-2026-week-3-ages-4-13-mon-fri-june-15th-19th-full-day-9am-3pm-345/
LOCATION:Cedar Park\, 504 Denali Pass\, Cedar Park\, TX\, 78613\, United States
CATEGORIES:Camp
ORGANIZER;CN="Cedar Park":MAILTO:info@capgymcpk.com
END:VEVENT
BEGIN:VEVENT
DTSTART;TZID=UTC:20260616T090000
DTEND;TZID=UTC:20260619T150000
DTSTAMP:20260422T122207
CREATED:20251203T203441Z
LAST-MODIFIED:20260105T180718Z
UID:10000421-1781600400-1781881200@capgym.com
SUMMARY:Magic & Mystery Summer Camp | Week 4 | June 15- June 19 | Full Day (9-3)
DESCRIPTION:
URL:https://capgym.com/event/magic-mystery-summer-camp-week-4-june-15-june-19-full-day-9-3/
LOCATION:Pflugerville\, 419 Kingston Lacy Blvd\, Pflugerville\, TX\, 78660\, United States
CATEGORIES:Camp
ORGANIZER;CN="Pflugerville":MAILTO:info@capgympfl.com
END:VEVENT
END:VCALENDAR