BEGIN:VCALENDAR
VERSION:2.0
PRODID:-//Capital Gymnastics - ECPv6.14.2//NONSGML v1.0//EN
CALSCALE:GREGORIAN
METHOD:PUBLISH
X-ORIGINAL-URL:https://capgym.com
X-WR-CALDESC:Events for Capital Gymnastics
REFRESH-INTERVAL;VALUE=DURATION:PT1H
X-Robots-Tag:noindex
X-PUBLISHED-TTL:PT1H
BEGIN:VTIMEZONE
TZID:UTC
BEGIN:STANDARD
TZOFFSETFROM:+0000
TZOFFSETTO:+0000
TZNAME:UTC
DTSTART:20260101T000000
END:STANDARD
END:VTIMEZONE
BEGIN:VEVENT
DTSTART;TZID=UTC:20260123T183000
DTEND;TZID=UTC:20260123T213000
DTSTAMP:20260423T102651
CREATED:20260124T023109Z
LAST-MODIFIED:20260124T023110Z
UID:10001110-1769193000-1769203800@capgym.com
SUMMARY:Kid's Night Out | January 23rd | 6:30-9:30 | $35 ($5 less for siblings)
DESCRIPTION:Take the night off while we keep your kids entertained with nonstop fun! At Kids’ Night Out\, we’ll have open play\, games\, gymnastics\, crafts\, and a pizza dinner! Each Kids’ Night Out has an exciting theme\, keeping the kids engaged while you enjoy a night out.
URL:https://capgym.com/event/kids-night-out-january-23rd-630-930-35-5-less-for-siblings-9/
LOCATION:Pflugerville\, 419 Kingston Lacy Blvd\, Pflugerville\, TX\, 78660\, United States
CATEGORIES:Camp
ORGANIZER;CN="Pflugerville":MAILTO:info@capgympfl.com
END:VEVENT
BEGIN:VEVENT
DTSTART;TZID=UTC:20260130T100000
DTEND;TZID=UTC:20260130T113000
DTSTAMP:20260423T102652
CREATED:20251213T213052Z
LAST-MODIFIED:20260105T180624Z
UID:10000552-1769767200-1769772600@capgym.com
SUMMARY:Gym Fun Friday |Ages 0-6 | January 30th
DESCRIPTION:🎉 Gym Fun Friday (GFF)End the week with flips\, fun\, and friends! Gym Fun Friday is an exciting open-style event where kids can enjoy supervised play\, obstacle courses\, trampoline time\, and games throughout the gym. \nPerfect for ages 0-5\, this weekly event is designed to let kids burn energy\, build skills\, and have a blast in a safe\, structured environment. \n🕒 Fridays | 10:00am – 11:30am📍 Members & non-members welcome🎯 No commitment—drop in and join the fun!
URL:https://capgym.com/event/gym-fun-friday-ages-0-6-january-30th/
LOCATION:Round Rock\, 4600 Campus Village Drive\, Round Rock\, TX\, 78665\, United States
CATEGORIES:Camp
ORGANIZER;CN="Round Rock":MAILTO:info@capgymrnd.com
END:VEVENT
BEGIN:VEVENT
DTSTART;TZID=UTC:20260130T100000
DTEND;TZID=UTC:20260130T113000
DTSTAMP:20260423T102652
CREATED:20251215T223315Z
LAST-MODIFIED:20260105T180728Z
UID:10000572-1769767200-1769772600@capgym.com
SUMMARY:Gym Fun Fridays | January 30 | 10:00-11:30am | $10
DESCRIPTION:This hands-on open gym\, invites toddlers to move\, explore\, jump\, and play—right alongside you. Free play with your kiddos and make new friends! 
URL:https://capgym.com/event/gym-fun-fridays-january-30-1000-1130am-10/
LOCATION:Pflugerville\, 419 Kingston Lacy Blvd\, Pflugerville\, TX\, 78660\, United States
CATEGORIES:Camp
ORGANIZER;CN="Pflugerville":MAILTO:info@capgympfl.com
END:VEVENT
BEGIN:VEVENT
DTSTART;TZID=UTC:20260130T100000
DTEND;TZID=UTC:20260130T113000
DTSTAMP:20260423T102652
CREATED:20260130T113130Z
LAST-MODIFIED:20260130T113130Z
UID:10001120-1769767200-1769772600@capgym.com
SUMMARY:Gym Fun Friday |Ages 0-6 | January 30th
DESCRIPTION:🎉 Gym Fun Friday (GFF)End the week with flips\, fun\, and friends! Gym Fun Friday is an exciting open-style event where kids can enjoy supervised play\, obstacle courses\, trampoline time\, and games throughout the gym. \nPerfect for ages 0-5\, this weekly event is designed to let kids burn energy\, build skills\, and have a blast in a safe\, structured environment. \n🕒 Fridays | 10:00am – 11:30am📍 Members & non-members welcome🎯 No commitment—drop in and join the fun!
URL:https://capgym.com/event/gym-fun-friday-ages-0-6-january-30th-2/
LOCATION:Round Rock\, 4600 Campus Village Drive\, Round Rock\, TX\, 78665\, United States
CATEGORIES:Camp
ORGANIZER;CN="Round Rock":MAILTO:info@capgymrnd.com
END:VEVENT
BEGIN:VEVENT
DTSTART;TZID=UTC:20260130T100000
DTEND;TZID=UTC:20260130T113000
DTSTAMP:20260423T102652
CREATED:20260130T113204Z
LAST-MODIFIED:20260130T113204Z
UID:10001121-1769767200-1769772600@capgym.com
SUMMARY:Gym Fun Fridays | January 30 | 10:00-11:30am | $10
DESCRIPTION:This hands-on open gym\, invites toddlers to move\, explore\, jump\, and play—right alongside you. Free play with your kiddos and make new friends! 
URL:https://capgym.com/event/gym-fun-fridays-january-30-1000-1130am-10-2/
LOCATION:Pflugerville\, 419 Kingston Lacy Blvd\, Pflugerville\, TX\, 78660\, United States
CATEGORIES:Camp
ORGANIZER;CN="Pflugerville":MAILTO:info@capgympfl.com
END:VEVENT
BEGIN:VEVENT
DTSTART;TZID=UTC:20260130T100000
DTEND;TZID=UTC:20260130T113000
DTSTAMP:20260423T102652
CREATED:20260130T123053Z
LAST-MODIFIED:20260130T123053Z
UID:10001122-1769767200-1769772600@capgym.com
SUMMARY:Gym Fun Friday |Ages 0-6 | January 30th
DESCRIPTION:🎉 Gym Fun Friday (GFF)End the week with flips\, fun\, and friends! Gym Fun Friday is an exciting open-style event where kids can enjoy supervised play\, obstacle courses\, trampoline time\, and games throughout the gym. \nPerfect for ages 0-5\, this weekly event is designed to let kids burn energy\, build skills\, and have a blast in a safe\, structured environment. \n🕒 Fridays | 10:00am – 11:30am📍 Members & non-members welcome🎯 No commitment—drop in and join the fun!
URL:https://capgym.com/event/gym-fun-friday-ages-0-6-january-30th-3/
LOCATION:Round Rock\, 4600 Campus Village Drive\, Round Rock\, TX\, 78665\, United States
CATEGORIES:Camp
ORGANIZER;CN="Round Rock":MAILTO:info@capgymrnd.com
END:VEVENT
BEGIN:VEVENT
DTSTART;TZID=UTC:20260130T100000
DTEND;TZID=UTC:20260130T113000
DTSTAMP:20260423T102652
CREATED:20260130T123127Z
LAST-MODIFIED:20260130T123127Z
UID:10001124-1769767200-1769772600@capgym.com
SUMMARY:Gym Fun Fridays | January 30 | 10:00-11:30am | $10
DESCRIPTION:This hands-on open gym\, invites toddlers to move\, explore\, jump\, and play—right alongside you. Free play with your kiddos and make new friends! 
URL:https://capgym.com/event/gym-fun-fridays-january-30-1000-1130am-10-3/
LOCATION:Pflugerville\, 419 Kingston Lacy Blvd\, Pflugerville\, TX\, 78660\, United States
CATEGORIES:Camp
ORGANIZER;CN="Pflugerville":MAILTO:info@capgympfl.com
END:VEVENT
BEGIN:VEVENT
DTSTART;TZID=UTC:20260130T100000
DTEND;TZID=UTC:20260130T113000
DTSTAMP:20260423T102652
CREATED:20260130T133045Z
LAST-MODIFIED:20260130T133045Z
UID:10001125-1769767200-1769772600@capgym.com
SUMMARY:Gym Fun Friday |Ages 0-6 | January 30th
DESCRIPTION:🎉 Gym Fun Friday (GFF)End the week with flips\, fun\, and friends! Gym Fun Friday is an exciting open-style event where kids can enjoy supervised play\, obstacle courses\, trampoline time\, and games throughout the gym. \nPerfect for ages 0-5\, this weekly event is designed to let kids burn energy\, build skills\, and have a blast in a safe\, structured environment. \n🕒 Fridays | 10:00am – 11:30am📍 Members & non-members welcome🎯 No commitment—drop in and join the fun!
URL:https://capgym.com/event/gym-fun-friday-ages-0-6-january-30th-4/
LOCATION:Round Rock\, 4600 Campus Village Drive\, Round Rock\, TX\, 78665\, United States
CATEGORIES:Camp
ORGANIZER;CN="Round Rock":MAILTO:info@capgymrnd.com
END:VEVENT
BEGIN:VEVENT
DTSTART;TZID=UTC:20260130T100000
DTEND;TZID=UTC:20260130T113000
DTSTAMP:20260423T102652
CREATED:20260130T133124Z
LAST-MODIFIED:20260130T133125Z
UID:10001127-1769767200-1769772600@capgym.com
SUMMARY:Gym Fun Fridays | January 30 | 10:00-11:30am | $10
DESCRIPTION:This hands-on open gym\, invites toddlers to move\, explore\, jump\, and play—right alongside you. Free play with your kiddos and make new friends! 
URL:https://capgym.com/event/gym-fun-fridays-january-30-1000-1130am-10-4/
LOCATION:Pflugerville\, 419 Kingston Lacy Blvd\, Pflugerville\, TX\, 78660\, United States
CATEGORIES:Camp
ORGANIZER;CN="Pflugerville":MAILTO:info@capgympfl.com
END:VEVENT
BEGIN:VEVENT
DTSTART;TZID=UTC:20260130T100000
DTEND;TZID=UTC:20260130T113000
DTSTAMP:20260423T102652
CREATED:20260130T143046Z
LAST-MODIFIED:20260130T143046Z
UID:10001128-1769767200-1769772600@capgym.com
SUMMARY:Gym Fun Friday |Ages 0-6 | January 30th
DESCRIPTION:🎉 Gym Fun Friday (GFF)End the week with flips\, fun\, and friends! Gym Fun Friday is an exciting open-style event where kids can enjoy supervised play\, obstacle courses\, trampoline time\, and games throughout the gym. \nPerfect for ages 0-5\, this weekly event is designed to let kids burn energy\, build skills\, and have a blast in a safe\, structured environment. \n🕒 Fridays | 10:00am – 11:30am📍 Members & non-members welcome🎯 No commitment—drop in and join the fun!
URL:https://capgym.com/event/gym-fun-friday-ages-0-6-january-30th-5/
LOCATION:Round Rock\, 4600 Campus Village Drive\, Round Rock\, TX\, 78665\, United States
CATEGORIES:Camp
ORGANIZER;CN="Round Rock":MAILTO:info@capgymrnd.com
END:VEVENT
BEGIN:VEVENT
DTSTART;TZID=UTC:20260130T100000
DTEND;TZID=UTC:20260130T113000
DTSTAMP:20260423T102652
CREATED:20260130T143128Z
LAST-MODIFIED:20260130T143129Z
UID:10001130-1769767200-1769772600@capgym.com
SUMMARY:Gym Fun Fridays | January 30 | 10:00-11:30am | $10
DESCRIPTION:This hands-on open gym\, invites toddlers to move\, explore\, jump\, and play—right alongside you. Free play with your kiddos and make new friends! 
URL:https://capgym.com/event/gym-fun-fridays-january-30-1000-1130am-10-5/
LOCATION:Pflugerville\, 419 Kingston Lacy Blvd\, Pflugerville\, TX\, 78660\, United States
CATEGORIES:Camp
ORGANIZER;CN="Pflugerville":MAILTO:info@capgympfl.com
END:VEVENT
BEGIN:VEVENT
DTSTART;TZID=UTC:20260130T100000
DTEND;TZID=UTC:20260130T113000
DTSTAMP:20260423T102652
CREATED:20260130T153050Z
LAST-MODIFIED:20260130T153051Z
UID:10001131-1769767200-1769772600@capgym.com
SUMMARY:Gym Fun Friday |Ages 0-6 | January 30th
DESCRIPTION:🎉 Gym Fun Friday (GFF)End the week with flips\, fun\, and friends! Gym Fun Friday is an exciting open-style event where kids can enjoy supervised play\, obstacle courses\, trampoline time\, and games throughout the gym. \nPerfect for ages 0-5\, this weekly event is designed to let kids burn energy\, build skills\, and have a blast in a safe\, structured environment. \n🕒 Fridays | 10:00am – 11:30am📍 Members & non-members welcome🎯 No commitment—drop in and join the fun!
URL:https://capgym.com/event/gym-fun-friday-ages-0-6-january-30th-6/
LOCATION:Round Rock\, 4600 Campus Village Drive\, Round Rock\, TX\, 78665\, United States
CATEGORIES:Camp
ORGANIZER;CN="Round Rock":MAILTO:info@capgymrnd.com
END:VEVENT
BEGIN:VEVENT
DTSTART;TZID=UTC:20260130T100000
DTEND;TZID=UTC:20260130T113000
DTSTAMP:20260423T102652
CREATED:20260130T153127Z
LAST-MODIFIED:20260130T153128Z
UID:10001133-1769767200-1769772600@capgym.com
SUMMARY:Gym Fun Fridays | January 30 | 10:00-11:30am | $10
DESCRIPTION:This hands-on open gym\, invites toddlers to move\, explore\, jump\, and play—right alongside you. Free play with your kiddos and make new friends! 
URL:https://capgym.com/event/gym-fun-fridays-january-30-1000-1130am-10-6/
LOCATION:Pflugerville\, 419 Kingston Lacy Blvd\, Pflugerville\, TX\, 78660\, United States
CATEGORIES:Camp
ORGANIZER;CN="Pflugerville":MAILTO:info@capgympfl.com
END:VEVENT
BEGIN:VEVENT
DTSTART;TZID=UTC:20260130T100000
DTEND;TZID=UTC:20260130T113000
DTSTAMP:20260423T102652
CREATED:20260130T163040Z
LAST-MODIFIED:20260130T163041Z
UID:10001134-1769767200-1769772600@capgym.com
SUMMARY:Gym Fun Friday |Ages 0-6 | January 30th
DESCRIPTION:🎉 Gym Fun Friday (GFF)End the week with flips\, fun\, and friends! Gym Fun Friday is an exciting open-style event where kids can enjoy supervised play\, obstacle courses\, trampoline time\, and games throughout the gym. \nPerfect for ages 0-5\, this weekly event is designed to let kids burn energy\, build skills\, and have a blast in a safe\, structured environment. \n🕒 Fridays | 10:00am – 11:30am📍 Members & non-members welcome🎯 No commitment—drop in and join the fun!
URL:https://capgym.com/event/gym-fun-friday-ages-0-6-january-30th-7/
LOCATION:Round Rock\, 4600 Campus Village Drive\, Round Rock\, TX\, 78665\, United States
CATEGORIES:Camp
ORGANIZER;CN="Round Rock":MAILTO:info@capgymrnd.com
END:VEVENT
BEGIN:VEVENT
DTSTART;TZID=UTC:20260206T100000
DTEND;TZID=UTC:20260206T113000
DTSTAMP:20260423T102652
CREATED:20260203T013127Z
LAST-MODIFIED:20260203T013127Z
UID:10001143-1770372000-1770377400@capgym.com
SUMMARY:Gym Fun Fridays | February 6th | 10:00-11:30am | $10
DESCRIPTION:Gym Fun Friday is the ultimate way to kick off the weekend! 🎉 \nJoin us for high-energy obstacle courses\, exciting games\, open gym time\, and skill-building challenges designed to keep kids moving\, laughing\, and building confidence. From trampolines to bars\, beam\, and floor — the entire gym becomes a playground of structured fun led by our amazing coaches. \nPerfect for burning energy\, making friends\, and starting the weekend with a win. Spots fill quickly — don’t miss the fun!
URL:https://capgym.com/event/gym-fun-fridays-february-6th-1000-1130am-10/
LOCATION:Pflugerville\, 419 Kingston Lacy Blvd\, Pflugerville\, TX\, 78660\, United States
CATEGORIES:Camp
ORGANIZER;CN="Pflugerville":MAILTO:info@capgympfl.com
END:VEVENT
BEGIN:VEVENT
DTSTART;TZID=UTC:20260206T100000
DTEND;TZID=UTC:20260206T113000
DTSTAMP:20260423T102652
CREATED:20260206T113131Z
LAST-MODIFIED:20260206T113131Z
UID:10001146-1770372000-1770377400@capgym.com
SUMMARY:Gym Fun Fridays | February 6th | 10:00-11:30am | $10
DESCRIPTION:Gym Fun Friday is the ultimate way to kick off the weekend! 🎉 \nJoin us for high-energy obstacle courses\, exciting games\, open gym time\, and skill-building challenges designed to keep kids moving\, laughing\, and building confidence. From trampolines to bars\, beam\, and floor — the entire gym becomes a playground of structured fun led by our amazing coaches. \nPerfect for burning energy\, making friends\, and starting the weekend with a win. Spots fill quickly — don’t miss the fun!
URL:https://capgym.com/event/gym-fun-fridays-february-6th-1000-1130am-10-2/
LOCATION:Pflugerville\, 419 Kingston Lacy Blvd\, Pflugerville\, TX\, 78660\, United States
CATEGORIES:Camp
ORGANIZER;CN="Pflugerville":MAILTO:info@capgympfl.com
END:VEVENT
BEGIN:VEVENT
DTSTART;TZID=UTC:20260206T100000
DTEND;TZID=UTC:20260206T113000
DTSTAMP:20260423T102652
CREATED:20260206T123149Z
LAST-MODIFIED:20260206T123149Z
UID:10001149-1770372000-1770377400@capgym.com
SUMMARY:Gym Fun Fridays | February 6th | 10:00-11:30am | $10
DESCRIPTION:Gym Fun Friday is the ultimate way to kick off the weekend! 🎉 \nJoin us for high-energy obstacle courses\, exciting games\, open gym time\, and skill-building challenges designed to keep kids moving\, laughing\, and building confidence. From trampolines to bars\, beam\, and floor — the entire gym becomes a playground of structured fun led by our amazing coaches. \nPerfect for burning energy\, making friends\, and starting the weekend with a win. Spots fill quickly — don’t miss the fun!
URL:https://capgym.com/event/gym-fun-fridays-february-6th-1000-1130am-10-3/
LOCATION:Pflugerville\, 419 Kingston Lacy Blvd\, Pflugerville\, TX\, 78660\, United States
CATEGORIES:Camp
ORGANIZER;CN="Pflugerville":MAILTO:info@capgympfl.com
END:VEVENT
BEGIN:VEVENT
DTSTART;TZID=UTC:20260206T100000
DTEND;TZID=UTC:20260206T113000
DTSTAMP:20260423T102652
CREATED:20260206T133137Z
LAST-MODIFIED:20260206T133137Z
UID:10001152-1770372000-1770377400@capgym.com
SUMMARY:Gym Fun Fridays | February 6th | 10:00-11:30am | $10
DESCRIPTION:Gym Fun Friday is the ultimate way to kick off the weekend! 🎉 \nJoin us for high-energy obstacle courses\, exciting games\, open gym time\, and skill-building challenges designed to keep kids moving\, laughing\, and building confidence. From trampolines to bars\, beam\, and floor — the entire gym becomes a playground of structured fun led by our amazing coaches. \nPerfect for burning energy\, making friends\, and starting the weekend with a win. Spots fill quickly — don’t miss the fun!
URL:https://capgym.com/event/gym-fun-fridays-february-6th-1000-1130am-10-4/
LOCATION:Pflugerville\, 419 Kingston Lacy Blvd\, Pflugerville\, TX\, 78660\, United States
CATEGORIES:Camp
ORGANIZER;CN="Pflugerville":MAILTO:info@capgympfl.com
END:VEVENT
BEGIN:VEVENT
DTSTART;TZID=UTC:20260206T100000
DTEND;TZID=UTC:20260206T113000
DTSTAMP:20260423T102652
CREATED:20260206T143231Z
LAST-MODIFIED:20260206T143231Z
UID:10001155-1770372000-1770377400@capgym.com
SUMMARY:Gym Fun Fridays | February 6th | 10:00-11:30am | $10
DESCRIPTION:Gym Fun Friday is the ultimate way to kick off the weekend! 🎉 \nJoin us for high-energy obstacle courses\, exciting games\, open gym time\, and skill-building challenges designed to keep kids moving\, laughing\, and building confidence. From trampolines to bars\, beam\, and floor — the entire gym becomes a playground of structured fun led by our amazing coaches. \nPerfect for burning energy\, making friends\, and starting the weekend with a win. Spots fill quickly — don’t miss the fun!
URL:https://capgym.com/event/gym-fun-fridays-february-6th-1000-1130am-10-5/
LOCATION:Pflugerville\, 419 Kingston Lacy Blvd\, Pflugerville\, TX\, 78660\, United States
CATEGORIES:Camp
ORGANIZER;CN="Pflugerville":MAILTO:info@capgympfl.com
END:VEVENT
BEGIN:VEVENT
DTSTART;TZID=UTC:20260206T100000
DTEND;TZID=UTC:20260206T113000
DTSTAMP:20260423T102652
CREATED:20260206T153240Z
LAST-MODIFIED:20260206T153240Z
UID:10001158-1770372000-1770377400@capgym.com
SUMMARY:Gym Fun Fridays | February 6th | 10:00-11:30am | $10
DESCRIPTION:Gym Fun Friday is the ultimate way to kick off the weekend! 🎉 \nJoin us for high-energy obstacle courses\, exciting games\, open gym time\, and skill-building challenges designed to keep kids moving\, laughing\, and building confidence. From trampolines to bars\, beam\, and floor — the entire gym becomes a playground of structured fun led by our amazing coaches. \nPerfect for burning energy\, making friends\, and starting the weekend with a win. Spots fill quickly — don’t miss the fun!
URL:https://capgym.com/event/gym-fun-fridays-february-6th-1000-1130am-10-6/
LOCATION:Pflugerville\, 419 Kingston Lacy Blvd\, Pflugerville\, TX\, 78660\, United States
CATEGORIES:Camp
ORGANIZER;CN="Pflugerville":MAILTO:info@capgympfl.com
END:VEVENT
BEGIN:VEVENT
DTSTART;TZID=UTC:20260206T100000
DTEND;TZID=UTC:20260206T113000
DTSTAMP:20260423T102652
CREATED:20260206T163131Z
LAST-MODIFIED:20260206T163132Z
UID:10001161-1770372000-1770377400@capgym.com
SUMMARY:Gym Fun Fridays | February 6th | 10:00-11:30am | $10
DESCRIPTION:Gym Fun Friday is the ultimate way to kick off the weekend! 🎉 \nJoin us for high-energy obstacle courses\, exciting games\, open gym time\, and skill-building challenges designed to keep kids moving\, laughing\, and building confidence. From trampolines to bars\, beam\, and floor — the entire gym becomes a playground of structured fun led by our amazing coaches. \nPerfect for burning energy\, making friends\, and starting the weekend with a win. Spots fill quickly — don’t miss the fun!
URL:https://capgym.com/event/gym-fun-fridays-february-6th-1000-1130am-10-7/
LOCATION:Pflugerville\, 419 Kingston Lacy Blvd\, Pflugerville\, TX\, 78660\, United States
CATEGORIES:Camp
ORGANIZER;CN="Pflugerville":MAILTO:info@capgympfl.com
END:VEVENT
BEGIN:VEVENT
DTSTART;TZID=UTC:20260206T103000
DTEND;TZID=UTC:20260206T120000
DTSTAMP:20260423T102652
CREATED:20260106T163059Z
LAST-MODIFIED:20260106T163100Z
UID:10000976-1770373800-1770379200@capgym.com
SUMMARY:Gym Fun Friday |Ages 0-6 | February 6th
DESCRIPTION:🎉 Gym Fun Friday (GFF)End the week with flips\, fun\, and friends! Gym Fun Friday is an exciting open-style event where kids can enjoy supervised play\, obstacle courses\, trampoline time\, and games throughout the gym. \nPerfect for ages 0-5\, this weekly event is designed to let kids burn energy\, build skills\, and have a blast in a safe\, structured environment. \n🕒 Fridays | 10:00am – 11:30am📍 Members & non-members welcome🎯 No commitment—drop in and join the fun!
URL:https://capgym.com/event/gym-fun-friday-ages-0-6-february-6th/
LOCATION:Round Rock\, 4600 Campus Village Drive\, Round Rock\, TX\, 78665\, United States
CATEGORIES:Camp
ORGANIZER;CN="Round Rock":MAILTO:info@capgymrnd.com
END:VEVENT
BEGIN:VEVENT
DTSTART;TZID=UTC:20260206T103000
DTEND;TZID=UTC:20260206T120000
DTSTAMP:20260423T102652
CREATED:20260206T123113Z
LAST-MODIFIED:20260206T123113Z
UID:10001147-1770373800-1770379200@capgym.com
SUMMARY:Gym Fun Friday |Ages 0-6 | February 6th
DESCRIPTION:🎉 Gym Fun Friday (GFF)End the week with flips\, fun\, and friends! Gym Fun Friday is an exciting open-style event where kids can enjoy supervised play\, obstacle courses\, trampoline time\, and games throughout the gym. \nPerfect for ages 0-5\, this weekly event is designed to let kids burn energy\, build skills\, and have a blast in a safe\, structured environment. \n🕒 Fridays | 10:00am – 11:30am📍 Members & non-members welcome🎯 No commitment—drop in and join the fun!
URL:https://capgym.com/event/gym-fun-friday-ages-0-6-february-6th-2/
LOCATION:Round Rock\, 4600 Campus Village Drive\, Round Rock\, TX\, 78665\, United States
CATEGORIES:Camp
ORGANIZER;CN="Round Rock":MAILTO:info@capgymrnd.com
END:VEVENT
BEGIN:VEVENT
DTSTART;TZID=UTC:20260206T103000
DTEND;TZID=UTC:20260206T120000
DTSTAMP:20260423T102652
CREATED:20260206T133101Z
LAST-MODIFIED:20260206T133101Z
UID:10001150-1770373800-1770379200@capgym.com
SUMMARY:Gym Fun Friday |Ages 0-6 | February 6th
DESCRIPTION:🎉 Gym Fun Friday (GFF)End the week with flips\, fun\, and friends! Gym Fun Friday is an exciting open-style event where kids can enjoy supervised play\, obstacle courses\, trampoline time\, and games throughout the gym. \nPerfect for ages 0-5\, this weekly event is designed to let kids burn energy\, build skills\, and have a blast in a safe\, structured environment. \n🕒 Fridays | 10:00am – 11:30am📍 Members & non-members welcome🎯 No commitment—drop in and join the fun!
URL:https://capgym.com/event/gym-fun-friday-ages-0-6-february-6th-3/
LOCATION:Round Rock\, 4600 Campus Village Drive\, Round Rock\, TX\, 78665\, United States
CATEGORIES:Camp
ORGANIZER;CN="Round Rock":MAILTO:info@capgymrnd.com
END:VEVENT
BEGIN:VEVENT
DTSTART;TZID=UTC:20260206T103000
DTEND;TZID=UTC:20260206T120000
DTSTAMP:20260423T102652
CREATED:20260206T143154Z
LAST-MODIFIED:20260206T143155Z
UID:10001153-1770373800-1770379200@capgym.com
SUMMARY:Gym Fun Friday |Ages 0-6 | February 6th
DESCRIPTION:🎉 Gym Fun Friday (GFF)End the week with flips\, fun\, and friends! Gym Fun Friday is an exciting open-style event where kids can enjoy supervised play\, obstacle courses\, trampoline time\, and games throughout the gym. \nPerfect for ages 0-5\, this weekly event is designed to let kids burn energy\, build skills\, and have a blast in a safe\, structured environment. \n🕒 Fridays | 10:00am – 11:30am📍 Members & non-members welcome🎯 No commitment—drop in and join the fun!
URL:https://capgym.com/event/gym-fun-friday-ages-0-6-february-6th-4/
LOCATION:Round Rock\, 4600 Campus Village Drive\, Round Rock\, TX\, 78665\, United States
CATEGORIES:Camp
ORGANIZER;CN="Round Rock":MAILTO:info@capgymrnd.com
END:VEVENT
BEGIN:VEVENT
DTSTART;TZID=UTC:20260206T103000
DTEND;TZID=UTC:20260206T120000
DTSTAMP:20260423T102652
CREATED:20260206T153155Z
LAST-MODIFIED:20260206T153156Z
UID:10001156-1770373800-1770379200@capgym.com
SUMMARY:Gym Fun Friday |Ages 0-6 | February 6th
DESCRIPTION:🎉 Gym Fun Friday (GFF)End the week with flips\, fun\, and friends! Gym Fun Friday is an exciting open-style event where kids can enjoy supervised play\, obstacle courses\, trampoline time\, and games throughout the gym. \nPerfect for ages 0-5\, this weekly event is designed to let kids burn energy\, build skills\, and have a blast in a safe\, structured environment. \n🕒 Fridays | 10:00am – 11:30am📍 Members & non-members welcome🎯 No commitment—drop in and join the fun!
URL:https://capgym.com/event/gym-fun-friday-ages-0-6-february-6th-5/
LOCATION:Round Rock\, 4600 Campus Village Drive\, Round Rock\, TX\, 78665\, United States
CATEGORIES:Camp
ORGANIZER;CN="Round Rock":MAILTO:info@capgymrnd.com
END:VEVENT
BEGIN:VEVENT
DTSTART;TZID=UTC:20260206T103000
DTEND;TZID=UTC:20260206T120000
DTSTAMP:20260423T102652
CREATED:20260206T163051Z
LAST-MODIFIED:20260206T163051Z
UID:10001159-1770373800-1770379200@capgym.com
SUMMARY:Gym Fun Friday |Ages 0-6 | February 6th
DESCRIPTION:🎉 Gym Fun Friday (GFF)End the week with flips\, fun\, and friends! Gym Fun Friday is an exciting open-style event where kids can enjoy supervised play\, obstacle courses\, trampoline time\, and games throughout the gym. \nPerfect for ages 0-5\, this weekly event is designed to let kids burn energy\, build skills\, and have a blast in a safe\, structured environment. \n🕒 Fridays | 10:00am – 11:30am📍 Members & non-members welcome🎯 No commitment—drop in and join the fun!
URL:https://capgym.com/event/gym-fun-friday-ages-0-6-february-6th-6/
LOCATION:Round Rock\, 4600 Campus Village Drive\, Round Rock\, TX\, 78665\, United States
CATEGORIES:Camp
ORGANIZER;CN="Round Rock":MAILTO:info@capgymrnd.com
END:VEVENT
BEGIN:VEVENT
DTSTART;TZID=UTC:20260206T103000
DTEND;TZID=UTC:20260206T120000
DTSTAMP:20260423T102652
CREATED:20260206T173121Z
LAST-MODIFIED:20260206T173122Z
UID:10001162-1770373800-1770379200@capgym.com
SUMMARY:Gym Fun Friday |Ages 0-6 | February 6th
DESCRIPTION:🎉 Gym Fun Friday (GFF)End the week with flips\, fun\, and friends! Gym Fun Friday is an exciting open-style event where kids can enjoy supervised play\, obstacle courses\, trampoline time\, and games throughout the gym. \nPerfect for ages 0-5\, this weekly event is designed to let kids burn energy\, build skills\, and have a blast in a safe\, structured environment. \n🕒 Fridays | 10:00am – 11:30am📍 Members & non-members welcome🎯 No commitment—drop in and join the fun!
URL:https://capgym.com/event/gym-fun-friday-ages-0-6-february-6th-7/
LOCATION:Round Rock\, 4600 Campus Village Drive\, Round Rock\, TX\, 78665\, United States
CATEGORIES:Camp
ORGANIZER;CN="Round Rock":MAILTO:info@capgymrnd.com
END:VEVENT
BEGIN:VEVENT
DTSTART;TZID=UTC:20260206T183000
DTEND;TZID=UTC:20260206T213000
DTSTAMP:20260423T102652
CREATED:20260127T193133Z
LAST-MODIFIED:20260127T193134Z
UID:10001116-1770402600-1770413400@capgym.com
SUMMARY:Under the Sea Kid's Night Out |February 13th| 6:30-9:30 | $35 ($5 less for siblings)
DESCRIPTION:Under the Sea Kids Night Out – Pre-Valentine’s EditionFriday\, February 6th | 6:30–9:30 PM \n$35 per student – $30 for sibling! \nDive into a magical evening of fun at our Under the Sea Kids Night Out! Your child will flip\, tumble\, and play through an ocean of excitement with themed games\, gymnastics\, crafts\, and pizza. We’ll sprinkle in a little Valentine’s magic as we celebrate friendship and fun with heart-themed activities in a colorful underwater world. \nPerfect for a parents’ night out and a night your kids won’t stop talking about. Ages 4 & up. Spots fill fast—don’t wait.
URL:https://capgym.com/event/under-the-sea-kids-night-out-february-13th-630-930-35-5-less-for-siblings/
LOCATION:Pflugerville\, 419 Kingston Lacy Blvd\, Pflugerville\, TX\, 78660\, United States
CATEGORIES:Camp
ORGANIZER;CN="Pflugerville":MAILTO:info@capgympfl.com
END:VEVENT
BEGIN:VEVENT
DTSTART;TZID=UTC:20260206T183000
DTEND;TZID=UTC:20260206T213000
DTSTAMP:20260423T102652
CREATED:20260206T213121Z
LAST-MODIFIED:20260206T213122Z
UID:10001170-1770402600-1770413400@capgym.com
SUMMARY:Under the Sea Kid's Night Out |February 6th| 6:30-9:30 | $35 ($5 less for siblings)
DESCRIPTION:Under the Sea Kids Night Out – Pre-Valentine’s EditionFriday\, February 6th | 6:30–9:30 PM \n$35 per student – $30 for sibling! \nDive into a magical evening of fun at our Under the Sea Kids Night Out! Your child will flip\, tumble\, and play through an ocean of excitement with themed games\, gymnastics\, crafts\, and pizza. We’ll sprinkle in a little Valentine’s magic as we celebrate friendship and fun with heart-themed activities in a colorful underwater world. \nPerfect for a parents’ night out and a night your kids won’t stop talking about. Ages 4 & up. Spots fill fast—don’t wait.
URL:https://capgym.com/event/under-the-sea-kids-night-out-february-6th-630-930-35-5-less-for-siblings/
LOCATION:Pflugerville\, 419 Kingston Lacy Blvd\, Pflugerville\, TX\, 78660\, United States
CATEGORIES:Camp
ORGANIZER;CN="Pflugerville":MAILTO:info@capgympfl.com
END:VEVENT
END:VCALENDAR