BEGIN:VCALENDAR
VERSION:2.0
PRODID:-//Capital Gymnastics - ECPv6.14.2//NONSGML v1.0//EN
CALSCALE:GREGORIAN
METHOD:PUBLISH
X-ORIGINAL-URL:https://capgym.com
X-WR-CALDESC:Events for Capital Gymnastics
REFRESH-INTERVAL;VALUE=DURATION:PT1H
X-Robots-Tag:noindex
X-PUBLISHED-TTL:PT1H
BEGIN:VTIMEZONE
TZID:UTC
BEGIN:STANDARD
TZOFFSETFROM:+0000
TZOFFSETTO:+0000
TZNAME:UTC
DTSTART:20260101T000000
END:STANDARD
END:VTIMEZONE
BEGIN:VEVENT
DTSTART;TZID=UTC:20260424T183000
DTEND;TZID=UTC:20260424T213000
DTSTAMP:20260425T190346
CREATED:20260424T223052Z
LAST-MODIFIED:20260424T223052Z
UID:10001663-1777055400-1777066200@capgym.com
SUMMARY:Kids Night Out | Ages 4-13 | April 24\, 2026 | 6:30-9:30 pm | $40 (siblings $35)
DESCRIPTION:Take the night off while we keep your kids entertained with nonstop fun! At Kids’ Night Out\, we’ll have open play\, games\, gymnastics\, crafts\, and a pizza dinner! Each Kids’ Night Out has an exciting theme\, keeping the kids engaged while you enjoy a night out. \n 
URL:https://capgym.com/event/kids-night-out-ages-4-13-april-24-2026-630-930-pm-40-siblings-35-2/
LOCATION:Cedar Park\, 504 Denali Pass\, Cedar Park\, TX\, 78613\, United States
CATEGORIES:Kids Night Out
ORGANIZER;CN="Cedar Park":MAILTO:info@capgymcpk.com
END:VEVENT
BEGIN:VEVENT
DTSTART;TZID=UTC:20260424T183000
DTEND;TZID=UTC:20260424T213000
DTSTAMP:20260425T190346
CREATED:20260424T223100Z
LAST-MODIFIED:20260424T223100Z
UID:10001664-1777055400-1777066200@capgym.com
SUMMARY:📺🎶⭐ Saved by the KNO |April 24th | 6:30-9:30 | $40 (sibling $35)
DESCRIPTION:Saved by the Kids – 90’s Throwback Kids Night Out \nStep back in time for a totally rad 90’s throwback Kids Night Out! Our Saved by the Kids party will bring all the bright colors\, fun music\, and high-energy vibes of the 90’s to the gym. \nKids will jump into gymnastics obstacle courses\, open gym time\, team challenges\, and retro-inspired games while jamming to fun throwback music. We’ll also have a dance party\, competitions\, and plenty of chances to flip\, race\, and play with friends throughout the night. \nIt’s the perfect mix of movement\, music\, and nonstop fun\, giving kids an exciting night at the gym while parents enjoy a well-deserved evening out. \n📅 April 24th⏰ 6:30 – 9:30 PM💲 $40 per student | $35 for siblings👧 Ages 4 & up \nBreak out the bright colors and get ready for a totally awesome night! 🎉
URL:https://capgym.com/event/%f0%9f%93%ba%f0%9f%8e%b6%e2%ad%90-saved-by-the-kno-april-24th-630-930-40-sibling-35-3/
LOCATION:Pflugerville\, 419 Kingston Lacy Blvd\, Pflugerville\, TX\, 78660\, United States
CATEGORIES:Kids Night Out
ORGANIZER;CN="Pflugerville":MAILTO:info@capgympfl.com
END:VEVENT
BEGIN:VEVENT
DTSTART;TZID=UTC:20260424T183000
DTEND;TZID=UTC:20260424T213000
DTSTAMP:20260425T190346
CREATED:20260424T233058Z
LAST-MODIFIED:20260424T233058Z
UID:10001665-1777055400-1777066200@capgym.com
SUMMARY:Kids Night Out | Ages 4+ | April 24th | Island Adventure Night | $40 ($35 sibling)
DESCRIPTION:🌴 Island Adventure Kid’s Night Out 🌊 \nSet sail for an unforgettable night of fun at our Island Adventure Kid’s Night Out! 🏝️✨ Kids ages 4–12 will enjoy an exciting evening packed with movement\, games\, and tropical-themed activities while parents enjoy a well-deserved break! \nYour child will have a blast exploring: \n\n🦈 Shark tag & island-style games\n🌊 Balance Surf challenges & high-energy activities\n🎨 Tropical crafts and creative fun\n\nWe’ll keep the energy going all night long with gymnastics-based games\, open play\, and tons of island excitement—plus pizza included! 🍕🥤 \n📅 Friday\, April 24⏰ 6:30 – 9:30 PM👧 Ages 4–12💲 $40 per child | $35 sibling discount \nSpots fill quickly—don’t miss out on this island adventure! 🌺🌈
URL:https://capgym.com/event/kids-night-out-ages-4-april-24th-island-adventure-night-40-35-sibling-4/
LOCATION:Round Rock\, 4600 Campus Village Drive\, Round Rock\, TX\, 78665\, United States
CATEGORIES:Kids Night Out
ORGANIZER;CN="Round Rock":MAILTO:info@capgymrnd.com
END:VEVENT
BEGIN:VEVENT
DTSTART;TZID=UTC:20260424T183000
DTEND;TZID=UTC:20260424T213000
DTSTAMP:20260425T190346
CREATED:20260424T233110Z
LAST-MODIFIED:20260424T233110Z
UID:10001666-1777055400-1777066200@capgym.com
SUMMARY:Kids Night Out | Ages 4-13 | April 24\, 2026 | 6:30-9:30 pm | $40 (siblings $35)
DESCRIPTION:Take the night off while we keep your kids entertained with nonstop fun! At Kids’ Night Out\, we’ll have open play\, games\, gymnastics\, crafts\, and a pizza dinner! Each Kids’ Night Out has an exciting theme\, keeping the kids engaged while you enjoy a night out. \n 
URL:https://capgym.com/event/kids-night-out-ages-4-13-april-24-2026-630-930-pm-40-siblings-35-3/
LOCATION:Cedar Park\, 504 Denali Pass\, Cedar Park\, TX\, 78613\, United States
CATEGORIES:Kids Night Out
ORGANIZER;CN="Cedar Park":MAILTO:info@capgymcpk.com
END:VEVENT
BEGIN:VEVENT
DTSTART;TZID=UTC:20260424T183000
DTEND;TZID=UTC:20260424T213000
DTSTAMP:20260425T190346
CREATED:20260424T233119Z
LAST-MODIFIED:20260424T233119Z
UID:10001667-1777055400-1777066200@capgym.com
SUMMARY:📺🎶⭐ Saved by the KNO |April 24th | 6:30-9:30 | $40 (sibling $35)
DESCRIPTION:Saved by the Kids – 90’s Throwback Kids Night Out \nStep back in time for a totally rad 90’s throwback Kids Night Out! Our Saved by the Kids party will bring all the bright colors\, fun music\, and high-energy vibes of the 90’s to the gym. \nKids will jump into gymnastics obstacle courses\, open gym time\, team challenges\, and retro-inspired games while jamming to fun throwback music. We’ll also have a dance party\, competitions\, and plenty of chances to flip\, race\, and play with friends throughout the night. \nIt’s the perfect mix of movement\, music\, and nonstop fun\, giving kids an exciting night at the gym while parents enjoy a well-deserved evening out. \n📅 April 24th⏰ 6:30 – 9:30 PM💲 $40 per student | $35 for siblings👧 Ages 4 & up \nBreak out the bright colors and get ready for a totally awesome night! 🎉
URL:https://capgym.com/event/%f0%9f%93%ba%f0%9f%8e%b6%e2%ad%90-saved-by-the-kno-april-24th-630-930-40-sibling-35-4/
LOCATION:Pflugerville\, 419 Kingston Lacy Blvd\, Pflugerville\, TX\, 78660\, United States
CATEGORIES:Kids Night Out
ORGANIZER;CN="Pflugerville":MAILTO:info@capgympfl.com
END:VEVENT
BEGIN:VEVENT
DTSTART;TZID=UTC:20260424T183000
DTEND;TZID=UTC:20260424T213000
DTSTAMP:20260425T190346
CREATED:20260425T003039Z
LAST-MODIFIED:20260425T003039Z
UID:10001668-1777055400-1777066200@capgym.com
SUMMARY:Kids Night Out | Ages 4+ | April 24th | Island Adventure Night | $40 ($35 sibling)
DESCRIPTION:🌴 Island Adventure Kid’s Night Out 🌊 \nSet sail for an unforgettable night of fun at our Island Adventure Kid’s Night Out! 🏝️✨ Kids ages 4–12 will enjoy an exciting evening packed with movement\, games\, and tropical-themed activities while parents enjoy a well-deserved break! \nYour child will have a blast exploring: \n\n🦈 Shark tag & island-style games\n🌊 Balance Surf challenges & high-energy activities\n🎨 Tropical crafts and creative fun\n\nWe’ll keep the energy going all night long with gymnastics-based games\, open play\, and tons of island excitement—plus pizza included! 🍕🥤 \n📅 Friday\, April 24⏰ 6:30 – 9:30 PM👧 Ages 4–12💲 $40 per child | $35 sibling discount \nSpots fill quickly—don’t miss out on this island adventure! 🌺🌈
URL:https://capgym.com/event/kids-night-out-ages-4-april-24th-island-adventure-night-40-35-sibling-5/
LOCATION:Round Rock\, 4600 Campus Village Drive\, Round Rock\, TX\, 78665\, United States
CATEGORIES:Kids Night Out
ORGANIZER;CN="Round Rock":MAILTO:info@capgymrnd.com
END:VEVENT
BEGIN:VEVENT
DTSTART;TZID=UTC:20260424T183000
DTEND;TZID=UTC:20260424T213000
DTSTAMP:20260425T190346
CREATED:20260425T003049Z
LAST-MODIFIED:20260425T003050Z
UID:10001669-1777055400-1777066200@capgym.com
SUMMARY:Kids Night Out | Ages 4-13 | April 24\, 2026 | 6:30-9:30 pm | $40 (siblings $35)
DESCRIPTION:Take the night off while we keep your kids entertained with nonstop fun! At Kids’ Night Out\, we’ll have open play\, games\, gymnastics\, crafts\, and a pizza dinner! Each Kids’ Night Out has an exciting theme\, keeping the kids engaged while you enjoy a night out. \n 
URL:https://capgym.com/event/kids-night-out-ages-4-13-april-24-2026-630-930-pm-40-siblings-35-4/
LOCATION:Cedar Park\, 504 Denali Pass\, Cedar Park\, TX\, 78613\, United States
CATEGORIES:Kids Night Out
ORGANIZER;CN="Cedar Park":MAILTO:info@capgymcpk.com
END:VEVENT
BEGIN:VEVENT
DTSTART;TZID=UTC:20260424T183000
DTEND;TZID=UTC:20260424T213000
DTSTAMP:20260425T190346
CREATED:20260425T003057Z
LAST-MODIFIED:20260425T003057Z
UID:10001670-1777055400-1777066200@capgym.com
SUMMARY:📺🎶⭐ Saved by the KNO |April 24th | 6:30-9:30 | $40 (sibling $35)
DESCRIPTION:Saved by the Kids – 90’s Throwback Kids Night Out \nStep back in time for a totally rad 90’s throwback Kids Night Out! Our Saved by the Kids party will bring all the bright colors\, fun music\, and high-energy vibes of the 90’s to the gym. \nKids will jump into gymnastics obstacle courses\, open gym time\, team challenges\, and retro-inspired games while jamming to fun throwback music. We’ll also have a dance party\, competitions\, and plenty of chances to flip\, race\, and play with friends throughout the night. \nIt’s the perfect mix of movement\, music\, and nonstop fun\, giving kids an exciting night at the gym while parents enjoy a well-deserved evening out. \n📅 April 24th⏰ 6:30 – 9:30 PM💲 $40 per student | $35 for siblings👧 Ages 4 & up \nBreak out the bright colors and get ready for a totally awesome night! 🎉
URL:https://capgym.com/event/%f0%9f%93%ba%f0%9f%8e%b6%e2%ad%90-saved-by-the-kno-april-24th-630-930-40-sibling-35-5/
LOCATION:Pflugerville\, 419 Kingston Lacy Blvd\, Pflugerville\, TX\, 78660\, United States
CATEGORIES:Kids Night Out
ORGANIZER;CN="Pflugerville":MAILTO:info@capgympfl.com
END:VEVENT
BEGIN:VEVENT
DTSTART;TZID=UTC:20260424T183000
DTEND;TZID=UTC:20260424T213000
DTSTAMP:20260425T190346
CREATED:20260425T013039Z
LAST-MODIFIED:20260425T013040Z
UID:10001671-1777055400-1777066200@capgym.com
SUMMARY:Kids Night Out | Ages 4+ | April 24th | Island Adventure Night | $40 ($35 sibling)
DESCRIPTION:🌴 Island Adventure Kid’s Night Out 🌊 \nSet sail for an unforgettable night of fun at our Island Adventure Kid’s Night Out! 🏝️✨ Kids ages 4–12 will enjoy an exciting evening packed with movement\, games\, and tropical-themed activities while parents enjoy a well-deserved break! \nYour child will have a blast exploring: \n\n🦈 Shark tag & island-style games\n🌊 Balance Surf challenges & high-energy activities\n🎨 Tropical crafts and creative fun\n\nWe’ll keep the energy going all night long with gymnastics-based games\, open play\, and tons of island excitement—plus pizza included! 🍕🥤 \n📅 Friday\, April 24⏰ 6:30 – 9:30 PM👧 Ages 4–12💲 $40 per child | $35 sibling discount \nSpots fill quickly—don’t miss out on this island adventure! 🌺🌈
URL:https://capgym.com/event/kids-night-out-ages-4-april-24th-island-adventure-night-40-35-sibling-6/
LOCATION:Round Rock\, 4600 Campus Village Drive\, Round Rock\, TX\, 78665\, United States
CATEGORIES:Kids Night Out
ORGANIZER;CN="Round Rock":MAILTO:info@capgymrnd.com
END:VEVENT
BEGIN:VEVENT
DTSTART;TZID=UTC:20260424T183000
DTEND;TZID=UTC:20260424T213000
DTSTAMP:20260425T190346
CREATED:20260425T013050Z
LAST-MODIFIED:20260425T013050Z
UID:10001672-1777055400-1777066200@capgym.com
SUMMARY:Kids Night Out | Ages 4-13 | April 24\, 2026 | 6:30-9:30 pm | $40 (siblings $35)
DESCRIPTION:Take the night off while we keep your kids entertained with nonstop fun! At Kids’ Night Out\, we’ll have open play\, games\, gymnastics\, crafts\, and a pizza dinner! Each Kids’ Night Out has an exciting theme\, keeping the kids engaged while you enjoy a night out. \n 
URL:https://capgym.com/event/kids-night-out-ages-4-13-april-24-2026-630-930-pm-40-siblings-35-5/
LOCATION:Cedar Park\, 504 Denali Pass\, Cedar Park\, TX\, 78613\, United States
CATEGORIES:Kids Night Out
ORGANIZER;CN="Cedar Park":MAILTO:info@capgymcpk.com
END:VEVENT
BEGIN:VEVENT
DTSTART;TZID=UTC:20260424T183000
DTEND;TZID=UTC:20260424T213000
DTSTAMP:20260425T190346
CREATED:20260425T013057Z
LAST-MODIFIED:20260425T013058Z
UID:10001673-1777055400-1777066200@capgym.com
SUMMARY:📺🎶⭐ Saved by the KNO |April 24th | 6:30-9:30 | $40 (sibling $35)
DESCRIPTION:Saved by the Kids – 90’s Throwback Kids Night Out \nStep back in time for a totally rad 90’s throwback Kids Night Out! Our Saved by the Kids party will bring all the bright colors\, fun music\, and high-energy vibes of the 90’s to the gym. \nKids will jump into gymnastics obstacle courses\, open gym time\, team challenges\, and retro-inspired games while jamming to fun throwback music. We’ll also have a dance party\, competitions\, and plenty of chances to flip\, race\, and play with friends throughout the night. \nIt’s the perfect mix of movement\, music\, and nonstop fun\, giving kids an exciting night at the gym while parents enjoy a well-deserved evening out. \n📅 April 24th⏰ 6:30 – 9:30 PM💲 $40 per student | $35 for siblings👧 Ages 4 & up \nBreak out the bright colors and get ready for a totally awesome night! 🎉
URL:https://capgym.com/event/%f0%9f%93%ba%f0%9f%8e%b6%e2%ad%90-saved-by-the-kno-april-24th-630-930-40-sibling-35-6/
LOCATION:Pflugerville\, 419 Kingston Lacy Blvd\, Pflugerville\, TX\, 78660\, United States
CATEGORIES:Kids Night Out
ORGANIZER;CN="Pflugerville":MAILTO:info@capgympfl.com
END:VEVENT
BEGIN:VEVENT
DTSTART;TZID=UTC:20260508T183000
DTEND;TZID=UTC:20260508T213000
DTSTAMP:20260425T190346
CREATED:20260317T173123Z
LAST-MODIFIED:20260317T173124Z
UID:10001426-1778265000-1778275800@capgym.com
SUMMARY:Kids Night Out | Ages 4-13 | May 8\, 2026 | 6:30-9:30 pm
DESCRIPTION:Take the night off while we keep your kids entertained with nonstop fun! At Kids’ Night Out\, we’ll have open play\, games\, gymnastics\, crafts\, and a pizza dinner! Each Kids’ Night Out has an exciting theme\, keeping the kids engaged while you enjoy a night out. \n 
URL:https://capgym.com/event/kids-night-out-ages-4-13-may-8-2026-630-930-pm/
LOCATION:Cedar Park\, 504 Denali Pass\, Cedar Park\, TX\, 78613\, United States
CATEGORIES:Kids Night Out
ORGANIZER;CN="Cedar Park":MAILTO:info@capgymcpk.com
END:VEVENT
BEGIN:VEVENT
DTSTART;TZID=UTC:20260508T183000
DTEND;TZID=UTC:20260508T213000
DTSTAMP:20260425T190346
CREATED:20260417T003111Z
LAST-MODIFIED:20260417T003111Z
UID:10001593-1778265000-1778275800@capgym.com
SUMMARY:Kids Night Out | May 8th | 6:30pm - 9:30pm | $40 ($5 sibling discount)
DESCRIPTION:
URL:https://capgym.com/event/kids-night-out-may-8th-630pm-930pm-40-5-sibling-discount/
LOCATION:Pflugerville\, 419 Kingston Lacy Blvd\, Pflugerville\, TX\, 78660\, United States
CATEGORIES:Kids Night Out
ORGANIZER;CN="Pflugerville":MAILTO:info@capgympfl.com
END:VEVENT
BEGIN:VEVENT
DTSTART;TZID=UTC:20260515T183000
DTEND;TZID=UTC:20260515T213000
DTSTAMP:20260425T190346
CREATED:20260317T173124Z
LAST-MODIFIED:20260317T173124Z
UID:10001427-1778869800-1778880600@capgym.com
SUMMARY:Kids Night Out | Ages 4-13 | May 15\, 2026 | 6:30-9:30 pm
DESCRIPTION:Take the night off while we keep your kids entertained with nonstop fun! At Kids’ Night Out\, we’ll have open play\, games\, gymnastics\, crafts\, and a pizza dinner! Each Kids’ Night Out has an exciting theme\, keeping the kids engaged while you enjoy a night out. \n 
URL:https://capgym.com/event/kids-night-out-ages-4-13-may-15-2026-630-930-pm/
LOCATION:Cedar Park\, 504 Denali Pass\, Cedar Park\, TX\, 78613\, United States
CATEGORIES:Kids Night Out
ORGANIZER;CN="Cedar Park":MAILTO:info@capgymcpk.com
END:VEVENT
BEGIN:VEVENT
DTSTART;TZID=UTC:20260522T183000
DTEND;TZID=UTC:20260522T213000
DTSTAMP:20260425T190346
CREATED:20260417T003111Z
LAST-MODIFIED:20260417T003112Z
UID:10001594-1779474600-1779485400@capgym.com
SUMMARY:Kids Night Out | May 22nd | 6:30pm - 9:30pm | $40 ($5 sibling discount) (COPY)
DESCRIPTION:
URL:https://capgym.com/event/kids-night-out-may-22nd-630pm-930pm-40-5-sibling-discount-copy/
LOCATION:Pflugerville\, 419 Kingston Lacy Blvd\, Pflugerville\, TX\, 78660\, United States
CATEGORIES:Kids Night Out
ORGANIZER;CN="Pflugerville":MAILTO:info@capgympfl.com
END:VEVENT
END:VCALENDAR