BEGIN:VCALENDAR
VERSION:2.0
PRODID:-//Capital Gymnastics - ECPv6.14.2//NONSGML v1.0//EN
CALSCALE:GREGORIAN
METHOD:PUBLISH
X-ORIGINAL-URL:https://capgym.com
X-WR-CALDESC:Events for Capital Gymnastics
REFRESH-INTERVAL;VALUE=DURATION:PT1H
X-Robots-Tag:noindex
X-PUBLISHED-TTL:PT1H
BEGIN:VTIMEZONE
TZID:UTC
BEGIN:STANDARD
TZOFFSETFROM:+0000
TZOFFSETTO:+0000
TZNAME:UTC
DTSTART:20260101T000000
END:STANDARD
END:VTIMEZONE
BEGIN:VEVENT
DTSTART;TZID=UTC:20260327T103000
DTEND;TZID=UTC:20260327T120000
DTSTAMP:20260421T203253
CREATED:20260301T043126Z
LAST-MODIFIED:20260301T043127Z
UID:10001346-1774607400-1774612800@capgym.com
SUMMARY:Gym Fun Fridays | Open Gym | Ages 1-5 |March 27\, 2026 | 10:30am -12:00pm | $10
DESCRIPTION:This hands-on open gym\, invites toddlers to move\, explore\, jump\, and play—right alongside you. Free play with your kiddos and make new friends! 
URL:https://capgym.com/event/gym-fun-fridays-open-gym-ages-1-5-march-27-2026-1030am-1200pm-10/
LOCATION:Cedar Park\, 504 Denali Pass\, Cedar Park\, TX\, 78613\, United States
CATEGORIES:Open Gym
ORGANIZER;CN="Cedar Park":MAILTO:info@capgymcpk.com
END:VEVENT
BEGIN:VEVENT
DTSTART;TZID=UTC:20260327T103000
DTEND;TZID=UTC:20260327T120000
DTSTAMP:20260421T203253
CREATED:20260327T123052Z
LAST-MODIFIED:20260327T123052Z
UID:10001480-1774607400-1774612800@capgym.com
SUMMARY:Gym Fun Fridays | Open Gym | Ages 1-5 |March 27\, 2026 | 10:30am -12:00pm | $10
DESCRIPTION:This hands-on open gym\, invites toddlers to move\, explore\, jump\, and play—right alongside you. Free play with your kiddos and make new friends! 
URL:https://capgym.com/event/gym-fun-fridays-open-gym-ages-1-5-march-27-2026-1030am-1200pm-10-2/
LOCATION:Cedar Park\, 504 Denali Pass\, Cedar Park\, TX\, 78613\, United States
CATEGORIES:Open Gym
ORGANIZER;CN="Cedar Park":MAILTO:info@capgymcpk.com
END:VEVENT
BEGIN:VEVENT
DTSTART;TZID=UTC:20260327T103000
DTEND;TZID=UTC:20260327T120000
DTSTAMP:20260421T203253
CREATED:20260327T133130Z
LAST-MODIFIED:20260327T133131Z
UID:10001482-1774607400-1774612800@capgym.com
SUMMARY:Gym Fun Fridays | Open Gym | Ages 1-5 |March 27\, 2026 | 10:30am -12:00pm | $10
DESCRIPTION:This hands-on open gym\, invites toddlers to move\, explore\, jump\, and play—right alongside you. Free play with your kiddos and make new friends! 
URL:https://capgym.com/event/gym-fun-fridays-open-gym-ages-1-5-march-27-2026-1030am-1200pm-10-3/
LOCATION:Cedar Park\, 504 Denali Pass\, Cedar Park\, TX\, 78613\, United States
CATEGORIES:Open Gym
ORGANIZER;CN="Cedar Park":MAILTO:info@capgymcpk.com
END:VEVENT
BEGIN:VEVENT
DTSTART;TZID=UTC:20260327T103000
DTEND;TZID=UTC:20260327T120000
DTSTAMP:20260421T203253
CREATED:20260327T143104Z
LAST-MODIFIED:20260327T143104Z
UID:10001484-1774607400-1774612800@capgym.com
SUMMARY:Gym Fun Fridays | Open Gym | Ages 1-5 |March 27\, 2026 | 10:30am -12:00pm | $10
DESCRIPTION:This hands-on open gym\, invites toddlers to move\, explore\, jump\, and play—right alongside you. Free play with your kiddos and make new friends! 
URL:https://capgym.com/event/gym-fun-fridays-open-gym-ages-1-5-march-27-2026-1030am-1200pm-10-4/
LOCATION:Cedar Park\, 504 Denali Pass\, Cedar Park\, TX\, 78613\, United States
CATEGORIES:Open Gym
ORGANIZER;CN="Cedar Park":MAILTO:info@capgymcpk.com
END:VEVENT
BEGIN:VEVENT
DTSTART;TZID=UTC:20260327T103000
DTEND;TZID=UTC:20260327T120000
DTSTAMP:20260421T203253
CREATED:20260327T153058Z
LAST-MODIFIED:20260327T153058Z
UID:10001486-1774607400-1774612800@capgym.com
SUMMARY:Gym Fun Fridays | Open Gym | Ages 1-5 |March 27\, 2026 | 10:30am -12:00pm | $10
DESCRIPTION:This hands-on open gym\, invites toddlers to move\, explore\, jump\, and play—right alongside you. Free play with your kiddos and make new friends! 
URL:https://capgym.com/event/gym-fun-fridays-open-gym-ages-1-5-march-27-2026-1030am-1200pm-10-5/
LOCATION:Cedar Park\, 504 Denali Pass\, Cedar Park\, TX\, 78613\, United States
CATEGORIES:Open Gym
ORGANIZER;CN="Cedar Park":MAILTO:info@capgymcpk.com
END:VEVENT
BEGIN:VEVENT
DTSTART;TZID=UTC:20260327T103000
DTEND;TZID=UTC:20260327T120000
DTSTAMP:20260421T203253
CREATED:20260327T163122Z
LAST-MODIFIED:20260327T163123Z
UID:10001488-1774607400-1774612800@capgym.com
SUMMARY:Gym Fun Fridays | Open Gym | Ages 1-5 |March 27\, 2026 | 10:30am -12:00pm | $10
DESCRIPTION:This hands-on open gym\, invites toddlers to move\, explore\, jump\, and play—right alongside you. Free play with your kiddos and make new friends! 
URL:https://capgym.com/event/gym-fun-fridays-open-gym-ages-1-5-march-27-2026-1030am-1200pm-10-6/
LOCATION:Cedar Park\, 504 Denali Pass\, Cedar Park\, TX\, 78613\, United States
CATEGORIES:Open Gym
ORGANIZER;CN="Cedar Park":MAILTO:info@capgymcpk.com
END:VEVENT
END:VCALENDAR