BEGIN:VCALENDAR
VERSION:2.0
PRODID:-//Capital Gymnastics - ECPv6.14.2//NONSGML v1.0//EN
CALSCALE:GREGORIAN
METHOD:PUBLISH
X-ORIGINAL-URL:https://capgym.com
X-WR-CALDESC:Events for Capital Gymnastics
REFRESH-INTERVAL;VALUE=DURATION:PT1H
X-Robots-Tag:noindex
X-PUBLISHED-TTL:PT1H
BEGIN:VTIMEZONE
TZID:UTC
BEGIN:STANDARD
TZOFFSETFROM:+0000
TZOFFSETTO:+0000
TZNAME:UTC
DTSTART:20260101T000000
END:STANDARD
END:VTIMEZONE
BEGIN:VEVENT
DTSTART;TZID=UTC:20260501T103000
DTEND;TZID=UTC:20260501T120000
DTSTAMP:20260423T120435
CREATED:20260301T043129Z
LAST-MODIFIED:20260301T043130Z
UID:10001351-1777631400-1777636800@capgym.com
SUMMARY:Gym Fun Fridays | Open Gym | Ages 1-5 |May 1\, 2026 | 10:30am -12:00pm | $10
DESCRIPTION:This hands-on open gym\, invites toddlers to move\, explore\, jump\, and play—right alongside you. Free play with your kiddos and make new friends! 
URL:https://capgym.com/event/gym-fun-fridays-open-gym-ages-1-5-may-1-2026-1030am-1200pm-10/
LOCATION:Cedar Park\, 504 Denali Pass\, Cedar Park\, TX\, 78613\, United States
CATEGORIES:Open Gym
ORGANIZER;CN="Cedar Park":MAILTO:info@capgymcpk.com
END:VEVENT
BEGIN:VEVENT
DTSTART;TZID=UTC:20260501T181500
DTEND;TZID=UTC:20260501T191500
DTSTAMP:20260423T120436
CREATED:20260331T163114Z
LAST-MODIFIED:20260331T163114Z
UID:10001516-1777659300-1777662900@capgym.com
SUMMARY:Bridge Kickover Clinic | Ages 6+ | Friday\, May 1\, 2026 | 6:15pm-7:15pm | $35
DESCRIPTION:Gymnastics Skills Clinics are designed to help gymnasts focus on specific skills and techniques in a structured\, supportive environment. Athletes will work on strength\, flexibility\, drills\, and progressions that build confidence and proper form. Clinics are led by experienced coaches and are ideal for gymnasts looking to refine existing skills\, learn new ones\, or get extra practice outside of regular classes. Open to various ages and skill levels\, with groups organized appropriately to ensure safety and individualized attention. \n 
URL:https://capgym.com/event/bridge-kickover-clinic-ages-6-friday-may-1-2026-615pm-715pm-35/
LOCATION:Cedar Park\, 504 Denali Pass\, Cedar Park\, TX\, 78613\, United States
CATEGORIES:Clinics
ORGANIZER;CN="Cedar Park":MAILTO:info@capgymcpk.com
END:VEVENT
BEGIN:VEVENT
DTSTART;TZID=UTC:20260501T183000
DTEND;TZID=UTC:20260501T203000
DTSTAMP:20260423T120436
CREATED:20260416T223129Z
LAST-MODIFIED:20260416T223130Z
UID:10001592-1777660200-1777667400@capgym.com
SUMMARY:Open Gym Workshop | May 1st | 6:30pm - 8:30pm| $20
DESCRIPTION:
URL:https://capgym.com/event/open-gym-workshop-may-1st-630pm-830pm-20/
LOCATION:Pflugerville\, 419 Kingston Lacy Blvd\, Pflugerville\, TX\, 78660\, United States
CATEGORIES:Open Gym
ORGANIZER;CN="Pflugerville":MAILTO:info@capgympfl.com
END:VEVENT
BEGIN:VEVENT
DTSTART;TZID=UTC:20260508T103000
DTEND;TZID=UTC:20260508T120000
DTSTAMP:20260423T120436
CREATED:20260401T203053Z
LAST-MODIFIED:20260401T203053Z
UID:10001521-1778236200-1778241600@capgym.com
SUMMARY:Gym Fun Fridays | Open Gym | Ages 1-5 |May 8\, 2026 | 10:30am -12:00pm | $10
DESCRIPTION:This hands-on open gym\, invites toddlers to move\, explore\, jump\, and play—right alongside you. Free play with your kiddos and make new friends! 
URL:https://capgym.com/event/gym-fun-fridays-open-gym-ages-1-5-may-8-2026-1030am-1200pm-10/
LOCATION:Cedar Park\, 504 Denali Pass\, Cedar Park\, TX\, 78613\, United States
CATEGORIES:Open Gym
ORGANIZER;CN="Cedar Park":MAILTO:info@capgymcpk.com
END:VEVENT
BEGIN:VEVENT
DTSTART;TZID=UTC:20260508T183000
DTEND;TZID=UTC:20260508T213000
DTSTAMP:20260423T120436
CREATED:20260317T173123Z
LAST-MODIFIED:20260317T173124Z
UID:10001426-1778265000-1778275800@capgym.com
SUMMARY:Kids Night Out | Ages 4-13 | May 8\, 2026 | 6:30-9:30 pm
DESCRIPTION:Take the night off while we keep your kids entertained with nonstop fun! At Kids’ Night Out\, we’ll have open play\, games\, gymnastics\, crafts\, and a pizza dinner! Each Kids’ Night Out has an exciting theme\, keeping the kids engaged while you enjoy a night out. \n 
URL:https://capgym.com/event/kids-night-out-ages-4-13-may-8-2026-630-930-pm/
LOCATION:Cedar Park\, 504 Denali Pass\, Cedar Park\, TX\, 78613\, United States
CATEGORIES:Kids Night Out
ORGANIZER;CN="Cedar Park":MAILTO:info@capgymcpk.com
END:VEVENT
BEGIN:VEVENT
DTSTART;TZID=UTC:20260508T183000
DTEND;TZID=UTC:20260508T213000
DTSTAMP:20260423T120436
CREATED:20260417T003111Z
LAST-MODIFIED:20260417T003111Z
UID:10001593-1778265000-1778275800@capgym.com
SUMMARY:Kids Night Out | May 8th | 6:30pm - 9:30pm | $40 ($5 sibling discount)
DESCRIPTION:
URL:https://capgym.com/event/kids-night-out-may-8th-630pm-930pm-40-5-sibling-discount/
LOCATION:Pflugerville\, 419 Kingston Lacy Blvd\, Pflugerville\, TX\, 78660\, United States
CATEGORIES:Kids Night Out
ORGANIZER;CN="Pflugerville":MAILTO:info@capgympfl.com
END:VEVENT
BEGIN:VEVENT
DTSTART;TZID=UTC:20260515T183000
DTEND;TZID=UTC:20260515T193000
DTSTAMP:20260423T120436
CREATED:20260416T203142Z
LAST-MODIFIED:20260416T203142Z
UID:10001591-1778869800-1778873400@capgym.com
SUMMARY:Round off Back handspring workshop| May 15th | 6:30pm - 7:30pm | $30
DESCRIPTION:Round-Off Back Handspring WorkshopFriday\, May 15th | 6:30–7:30 PM \nReady to level up your tumbling? This high-energy workshop is designed for athletes who are working toward or refining their round-off back handspring. Whether your athlete is just starting the connection or looking to clean up technique\, this session will focus on building strong\, confident skills step by step. \nAthletes will work on: \n\nProper round-off technique and power generation\nBack handspring fundamentals (jump\, reach\, snap-down\, and rebound)\nDrills and stations to improve strength\, timing\, and body control\nSafe progressions with coach spotting and guidance\n\nThis is a great opportunity for extra practice in a focused\, small-group setting to help athletes gain confidence and consistency. \nWho: Ages 6+ (grouped by skill level)Cost: $30 per athleteSpots are limited to ensure quality coaching and individual feedback \nGive your athlete the extra push they need to connect and perfect one of the most exciting tumbling passes!
URL:https://capgym.com/event/round-off-back-handspring-workshop-may-15th-630pm-730pm-30/
LOCATION:Pflugerville\, 419 Kingston Lacy Blvd\, Pflugerville\, TX\, 78660\, United States
CATEGORIES:Camp
ORGANIZER;CN="Pflugerville":MAILTO:info@capgympfl.com
END:VEVENT
BEGIN:VEVENT
DTSTART;TZID=UTC:20260515T183000
DTEND;TZID=UTC:20260515T213000
DTSTAMP:20260423T120436
CREATED:20260317T173124Z
LAST-MODIFIED:20260317T173124Z
UID:10001427-1778869800-1778880600@capgym.com
SUMMARY:Kids Night Out | Ages 4-13 | May 15\, 2026 | 6:30-9:30 pm
DESCRIPTION:Take the night off while we keep your kids entertained with nonstop fun! At Kids’ Night Out\, we’ll have open play\, games\, gymnastics\, crafts\, and a pizza dinner! Each Kids’ Night Out has an exciting theme\, keeping the kids engaged while you enjoy a night out. \n 
URL:https://capgym.com/event/kids-night-out-ages-4-13-may-15-2026-630-930-pm/
LOCATION:Cedar Park\, 504 Denali Pass\, Cedar Park\, TX\, 78613\, United States
CATEGORIES:Kids Night Out
ORGANIZER;CN="Cedar Park":MAILTO:info@capgymcpk.com
END:VEVENT
BEGIN:VEVENT
DTSTART;TZID=UTC:20260522T181500
DTEND;TZID=UTC:20260522T191500
DTSTAMP:20260423T120436
CREATED:20260331T163115Z
LAST-MODIFIED:20260331T163115Z
UID:10001517-1779473700-1779477300@capgym.com
SUMMARY:Cartwheel Clinic | Ages 6+ | Friday May 22\, 2026 | 6:15pm-7:15pm | $35
DESCRIPTION:Gymnastics Skills Clinics are designed to help gymnasts focus on specific skills and techniques in a structured\, supportive environment. Athletes will work on strength\, flexibility\, drills\, and progressions that build confidence and proper form. Clinics are led by experienced coaches and are ideal for gymnasts looking to refine existing skills\, learn new ones\, or get extra practice outside of regular classes. Open to various ages and skill levels\, with groups organized appropriately to ensure safety and individualized attention. \n 
URL:https://capgym.com/event/cartwheel-clinic-ages-6-friday-may-22-2026-615pm-715pm-35/
LOCATION:Cedar Park\, 504 Denali Pass\, Cedar Park\, TX\, 78613\, United States
CATEGORIES:Clinics
ORGANIZER;CN="Cedar Park":MAILTO:info@capgymcpk.com
END:VEVENT
BEGIN:VEVENT
DTSTART;TZID=UTC:20260522T183000
DTEND;TZID=UTC:20260522T213000
DTSTAMP:20260423T120436
CREATED:20260417T003111Z
LAST-MODIFIED:20260417T003112Z
UID:10001594-1779474600-1779485400@capgym.com
SUMMARY:Kids Night Out | May 22nd | 6:30pm - 9:30pm | $40 ($5 sibling discount) (COPY)
DESCRIPTION:
URL:https://capgym.com/event/kids-night-out-may-22nd-630pm-930pm-40-5-sibling-discount-copy/
LOCATION:Pflugerville\, 419 Kingston Lacy Blvd\, Pflugerville\, TX\, 78660\, United States
CATEGORIES:Kids Night Out
ORGANIZER;CN="Pflugerville":MAILTO:info@capgympfl.com
END:VEVENT
BEGIN:VEVENT
DTSTART;TZID=UTC:20260527T090000
DTEND;TZID=UTC:20260529T120000
DTSTAMP:20260423T120436
CREATED:20251203T203207Z
LAST-MODIFIED:20260105T180608Z
UID:10000336-1779872400-1780056000@capgym.com
SUMMARY:Summer Camp | HALF DAY | Ages 4+ |WK1 May 26 - 29 |🌟 Team Spirit & Gym Games Week
DESCRIPTION:🌟 Team Spirit & Gym Games Week\n9:00 AM – 3:00 PM • $315 per week or $70 per day \nKick off summer with a week full of teamwork\, laughter\, and friendly competition! Campers will build confidence and connection through a variety of high-energy gym games designed to encourage teamwork\, leadership\, and fun. \n🏆 Activities Include:\n\n\nParachute Challenges – colorful\, cooperative games that build coordination and excitement \n\n\nTeam Relays & Obstacle Races – fun\, fast-paced challenges across beams\, trampolines\, and mats \n\n\nCapture the Flag & Floorball – active games that teach communication and strategy \n\n\nTumble Track Races – sprint\, jump\, and roll competitions with a twist \n\n\nGymnastics Mini-Games – skill stations on bars\, beams\, and floor for friendly points-based fun \n\n\nGroup Problem-Solving Games – work together to “unlock” challenges and earn rewards \n\n\n🎉 Why Kids Love It\n\n\nBuilds teamwork\, sportsmanship\, and confidence \n\n\nKeeps campers active while developing coordination and creativity \n\n\nLed by our energetic Capital Gymnastics coaching team \n\n\n📋 Details\n\n\nAges: 4 – 13yrs \n\n\nHours: 9:00 AM – 3:00 PM \n\n\nPricing: $315 per week or $70 per drop in day \n\n\nWhat to Bring: Snack\, lunch\, water bottle\, comfortable athletic clothes\, and a big smile!
URL:https://capgym.com/event/summer-camp-half-day-ages-4-wk1-may-26-29-%f0%9f%8c%9f-team-spirit-gym-games-week/
LOCATION:Round Rock\, 4600 Campus Village Drive\, Round Rock\, TX\, 78665\, United States
CATEGORIES:Camp
ORGANIZER;CN="Round Rock":MAILTO:info@capgymrnd.com
END:VEVENT
BEGIN:VEVENT
DTSTART;TZID=UTC:20260527T090000
DTEND;TZID=UTC:20260529T120000
DTSTAMP:20260423T120436
CREATED:20251203T203451Z
LAST-MODIFIED:20260105T180729Z
UID:10000438-1779872400-1780056000@capgym.com
SUMMARY:Beach Bash Summer Camp | Week 1 | May 26- May 29 | Half Day (9-12)
DESCRIPTION:School’s out and camp is in! Learn gymnastics and ninja skills\, play exciting games\, and make new friends at our Camps. Campers will participate in structured rotations\, as well as open gym\, crafts\, and group activities with our skilled staff. No experience is required to join the fun.
URL:https://capgym.com/event/beach-bash-summer-camp-week-1-may-26-may-29-half-day-9-12/
LOCATION:Pflugerville\, 419 Kingston Lacy Blvd\, Pflugerville\, TX\, 78660\, United States
CATEGORIES:Camp
ORGANIZER;CN="Pflugerville":MAILTO:info@capgympfl.com
END:VEVENT
BEGIN:VEVENT
DTSTART;TZID=UTC:20260527T090000
DTEND;TZID=UTC:20260529T150000
DTSTAMP:20260423T120436
CREATED:20251203T203220Z
LAST-MODIFIED:20260105T180624Z
UID:10000352-1779872400-1780066800@capgym.com
SUMMARY:Summer Camp | FULL DAY | Ages 4+ |WK1 May 26 - 29 |🌟 Team Spirit & Gym Games Week
DESCRIPTION:🌟 Team Spirit & Gym Games Week\n9:00 AM – 3:00 PM • $315/week • $70/dayAges 4–13 \nA high-energy kickoff week packed with team challenges\, obstacle courses\, relays\, and group competitions that build instant confidence and friendships. \n🏆 What Kids Do\n\n\nBig-team gym games \n\n\nObstacle + relay challenges \n\n\nFloorball & parachute games \n\n\nTumble track contests \n\n\nGymnastics game circuits \n\n\n🎉 Why Kids Love It\n\n\nFast-paced and exciting \n\n\nEasy way to make friends \n\n\nTons of movement and teamwork \n\n\n📋 What to Bring\nSnack\, lunch\, water bottle\, and comfortable athletic clothes. \n 
URL:https://capgym.com/event/summer-camp-full-day-ages-4-wk1-may-26-29-%f0%9f%8c%9f-team-spirit-gym-games-week/
LOCATION:Round Rock\, 4600 Campus Village Drive\, Round Rock\, TX\, 78665\, United States
CATEGORIES:Camp
ORGANIZER;CN="Round Rock":MAILTO:info@capgymrnd.com
END:VEVENT
BEGIN:VEVENT
DTSTART;TZID=UTC:20260527T090000
DTEND;TZID=UTC:20260529T150000
DTSTAMP:20260423T120436
CREATED:20251203T203440Z
LAST-MODIFIED:20260105T180716Z
UID:10000418-1779872400-1780066800@capgym.com
SUMMARY:Beach Bash Summer Camp | Week 1 | May 26- May 29 | Full Day (9-3)
DESCRIPTION:
URL:https://capgym.com/event/beach-bash-summer-camp-week-1-may-26-may-29-full-day-9-3/
LOCATION:Pflugerville\, 419 Kingston Lacy Blvd\, Pflugerville\, TX\, 78660\, United States
CATEGORIES:Camp
ORGANIZER;CN="Pflugerville":MAILTO:info@capgympfl.com
END:VEVENT
BEGIN:VEVENT
DTSTART;TZID=UTC:20260529T181500
DTEND;TZID=UTC:20260529T191500
DTSTAMP:20260423T120436
CREATED:20260401T213104Z
LAST-MODIFIED:20260401T213104Z
UID:10001522-1780078500-1780082100@capgym.com
SUMMARY:IGT Routine Clinic| Ages 6+ | Friday\, May 29\, 2026 | 6:15pm-7:15pm | $35
DESCRIPTION:This clinic is exclusively for athletes currently enrolled in our IGT Program.  Join us for focused routine work on all apparatus — vault\, bars\, beam\, and floor. Gymnasts will have the opportunity to refine routine structure\, improve skill execution\, strengthen connections\, and enhance performance quality and confidence.  Coaches will provide event-specific corrections\, drills\, and feedback to help athletes clean up details and prepare for evaluations or upcoming competitions.  This is a great opportunity for extra reps and individualized attention in a positive\, structured training environment. Space is limited — be sure to register early!  Click HERE to signup!!
URL:https://capgym.com/event/igt-routine-clinic-ages-6-friday-may-29-2026-615pm-715pm-35/
LOCATION:Cedar Park\, 504 Denali Pass\, Cedar Park\, TX\, 78613\, United States
CATEGORIES:Clinics
ORGANIZER;CN="Cedar Park":MAILTO:info@capgymcpk.com
END:VEVENT
END:VCALENDAR