BEGIN:VCALENDAR
VERSION:2.0
PRODID:-//Capital Gymnastics - ECPv6.14.2//NONSGML v1.0//EN
CALSCALE:GREGORIAN
METHOD:PUBLISH
X-ORIGINAL-URL:https://capgym.com
X-WR-CALDESC:Events for Capital Gymnastics
REFRESH-INTERVAL;VALUE=DURATION:PT1H
X-Robots-Tag:noindex
X-PUBLISHED-TTL:PT1H
BEGIN:VTIMEZONE
TZID:UTC
BEGIN:STANDARD
TZOFFSETFROM:+0000
TZOFFSETTO:+0000
TZNAME:UTC
DTSTART:20260101T000000
END:STANDARD
END:VTIMEZONE
BEGIN:VEVENT
DTSTART;TZID=UTC:20260425T100000
DTEND;TZID=UTC:20260425T113000
DTSTAMP:20260425T120454
CREATED:20260420T233043Z
LAST-MODIFIED:20260420T233043Z
UID:10001643-1777111200-1777116600@capgym.com
SUMMARY:Gym Fun Friday |Ages 0-6 | May 1st | $10
DESCRIPTION:🎉 Gym Fun Friday (GFF)End the week with flips\, fun\, and friends! Gym Fun Friday is an exciting open-style event where kids can enjoy supervised play\, obstacle courses\, trampoline time\, and games throughout the gym. \nPerfect for ages 0-5\, this weekly event is designed to let kids burn energy\, build skills\, and have a blast in a safe\, structured environment. \n🕒 Fridays | 10:00am – 11:30am📍 Members & non-members welcome🎯 No commitment—drop in and join the fun!
URL:https://capgym.com/event/gym-fun-friday-ages-0-6-may-1st-10/
LOCATION:Round Rock\, 4600 Campus Village Drive\, Round Rock\, TX\, 78665\, United States
CATEGORIES:Camp
ORGANIZER;CN="Round Rock":MAILTO:info@capgymrnd.com
END:VEVENT
END:VCALENDAR